BEGIN:VCALENDAR
PRODID:-//kirchenweb.ch gmbh//veranstaltungsausgabe v2.0//DE
VERSION:2.0
METHOD:PUBLISH
BEGIN:VEVENT
DTSTART:20250911T070000Z
DTEND:20250911T080000Z
LOCATION:Kirche \, Im Dorf 6\, 9245 Oberbüren
TRANSP:OPAQUE
SEQUENCE:0
UID:3260-veranstaltung@sse-onn.ch
DTSTAMP:20250808T083816Z
DESCRIPTION:Anschliessend sind alle herzlich zu einem Kaffee im
  Pfarreiheim Wiblen eingeladen.\n\nKontakt:
  pfarreisekretariat.onn@sse-onn.ch\n\nWeitere Infos:
  https://www.sse-onn.ch/veranstaltung/3260
SUMMARY:Messe von Frauen für alle
PRIORITY:5
X-MICROSOFT-CDO-IMPORTANCE:1
CLASS:PUBLIC
END:VEVENT
END:VCALENDAR
