BEGIN:VCALENDAR
PRODID:-//kirchenweb.ch gmbh//veranstaltungsausgabe v2.0//DE
VERSION:2.0
METHOD:PUBLISH
BEGIN:VEVENT
DTSTART:20250518T070000Z
DTEND:20250518T080000Z
LOCATION:Kirche Niederwil\, Im Dorf 1\, 9203 Niederwil
TRANSP:OPAQUE
SEQUENCE:0
UID:3376-veranstaltung@sse-onn.ch
DTSTAMP:20250516T053824Z
DESCRIPTION:Felix Büchi\n\nKontakt: pfarreisekretariat.onn@sse-onn.ch\n
 \nWeitere Infos: https://www.sse-onn.ch/veranstaltung/3376
SUMMARY:Sonntagsmesse
PRIORITY:5
X-MICROSOFT-CDO-IMPORTANCE:1
CLASS:PUBLIC
END:VEVENT
END:VCALENDAR
