BEGIN:VCALENDAR
PRODID:-//kirchenweb.ch gmbh//veranstaltungsausgabe v2.0//DE
VERSION:2.0
METHOD:PUBLISH
BEGIN:VEVENT
DTSTART:20260422T120000Z
DTEND:20260422T130000Z
LOCATION:Gemeindesaal\, \, 9246 Niederbüren
TRANSP:OPAQUE
SEQUENCE:0
UID:3689-veranstaltung@sse-onn.ch
DTSTAMP:20260302T064441Z
DESCRIPTION:Kontakt: pfarreisekretariat.onn@sse-onn.ch\n\nWeitere Infos:
  https://www.sse-onn.ch/veranstaltung/3689
SUMMARY:Seniorennachmittag Niederbüren
PRIORITY:5
X-MICROSOFT-CDO-IMPORTANCE:1
CLASS:PUBLIC
END:VEVENT
END:VCALENDAR
