BEGIN:VCALENDAR
PRODID:-//kirchenweb.ch gmbh//veranstaltungsausgabe v2.0//DE
VERSION:2.0
METHOD:PUBLISH
BEGIN:VEVENT
DTSTART:20261202T130000Z
DTEND:20261202T140000Z
LOCATION:Gemeindesaal\, \, 9246 Niederbüren
TRANSP:OPAQUE
SEQUENCE:0
UID:3690-veranstaltung@sse-onn.ch
DTSTAMP:20250404T065749Z
DESCRIPTION:Kontakt: pfarreisekretariat.onn@sse-onn.ch\n\nWeitere Infos:
  https://www.sse-onn.ch/veranstaltung/3690
SUMMARY:Seniorennachmittag Niederbüren
PRIORITY:5
X-MICROSOFT-CDO-IMPORTANCE:1
CLASS:PUBLIC
END:VEVENT
END:VCALENDAR
