BEGIN:VCALENDAR
PRODID:-//kirchenweb.ch gmbh//veranstaltungsausgabe v2.0//DE
VERSION:2.0
METHOD:PUBLISH
BEGIN:VEVENT
DTSTART:20250810T083000Z
DTEND:20250810T093000Z
LOCATION:Kirche Oberbüren\, Im Dorf 6\, 9245 Oberbüren
TRANSP:OPAQUE
SEQUENCE:0
UID:3890-veranstaltung@sse-onn.ch
DTSTAMP:20250808T053142Z
DESCRIPTION:P. Markus Schulze\n\nKontakt:
  pfarreisekretariat.onn@sse-onn.ch\n\nWeitere Infos:
  https://www.sse-onn.ch/veranstaltung/3890
SUMMARY:Sonntagsmesse
PRIORITY:5
X-MICROSOFT-CDO-IMPORTANCE:1
CLASS:PUBLIC
END:VEVENT
END:VCALENDAR
