BEGIN:VCALENDAR
PRODID:-//kirchenweb.ch gmbh//veranstaltungsausgabe v2.0//DE
VERSION:2.0
METHOD:PUBLISH
BEGIN:VEVENT
DTSTART:20251003T070000Z
DTEND:20251003T080000Z
LOCATION:Kirche\, Kirchplatz 3\, 9246 Niederbüren
TRANSP:OPAQUE
SEQUENCE:0
UID:4015-veranstaltung@sse-onn.ch
DTSTAMP:20250911T135016Z
DESCRIPTION:P. Markus Schulze;\num 08.30 Uhr Stille Anbetung\n\nKontakt:
  pfarreisekretariat.onn@sse-onn.ch\n\nWeitere Infos:
  https://www.sse-onn.ch/veranstaltung/4015
SUMMARY:Eucharistiefeier zum Herz-Jesu-Freitag
PRIORITY:5
X-MICROSOFT-CDO-IMPORTANCE:1
CLASS:PUBLIC
END:VEVENT
END:VCALENDAR
