BEGIN:VCALENDAR
PRODID:-//kirchenweb.ch gmbh//veranstaltungsausgabe v2.0//DE
VERSION:2.0
METHOD:PUBLISH
BEGIN:VEVENT
DTSTART:20251101T080000Z
DTEND:20251101T090000Z
LOCATION:Kirche \, Im Dorf 1\, 9203 Niederwil
TRANSP:OPAQUE
SEQUENCE:0
UID:4114-veranstaltung@sse-onn.ch
DTSTAMP:20250923T112629Z
DESCRIPTION:P. Piotr\n\nKontakt: pfarreisekretariat.onn@sse-onn.ch\n
 \nWeitere Infos: https://www.sse-onn.ch/veranstaltung/4114
SUMMARY:Eucharistiefeier mit Kirchenchor
PRIORITY:5
X-MICROSOFT-CDO-IMPORTANCE:1
CLASS:PUBLIC
END:VEVENT
END:VCALENDAR
