BEGIN:VCALENDAR
PRODID:-//kirchenweb.ch gmbh//veranstaltungsausgabe v2.0//DE
VERSION:2.0
METHOD:PUBLISH
BEGIN:VEVENT
DTSTART:20251130T160000Z
DTEND:20251130T170000Z
LOCATION:Dorfbrunnen\, \, 9246 Niederbüren
TRANSP:OPAQUE
SEQUENCE:0
UID:4124-veranstaltung@sse-onn.ch
DTSTAMP:20251117T095527Z
DESCRIPTION:mit Kirchenchor\n\nKontakt: pfarreisekretariat.onn@sse-onn.ch
 \n\nWeitere Infos: https://www.sse-onn.ch/veranstaltung/4124
SUMMARY:Adventskranzsegnung beim Dorfbrunnen
PRIORITY:5
X-MICROSOFT-CDO-IMPORTANCE:1
CLASS:PUBLIC
END:VEVENT
END:VCALENDAR
