BEGIN:VCALENDAR
PRODID:-//kirchenweb.ch gmbh//veranstaltungsausgabe v2.0//DE
VERSION:2.0
METHOD:PUBLISH
BEGIN:VEVENT
DTSTART:20251017T063000Z
DTEND:20251017T073000Z
LOCATION:Kloster\, Glattburg 108\, 9245 Oberbüren
TRANSP:OPAQUE
SEQUENCE:0
UID:4183-veranstaltung@sse-onn.ch
DTSTAMP:20250808T084526Z
DESCRIPTION:Kontakt: pfarreisekretariat.onn@sse-onn.ch\n\nWeitere Infos:
  https://www.sse-onn.ch/veranstaltung/4183
SUMMARY:Eucharistiefeier im Kloster Glattburg
PRIORITY:5
X-MICROSOFT-CDO-IMPORTANCE:1
CLASS:PUBLIC
END:VEVENT
END:VCALENDAR
