BEGIN:VCALENDAR
PRODID:-//kirchenweb.ch gmbh//veranstaltungsausgabe v2.0//DE
VERSION:2.0
METHOD:PUBLISH
BEGIN:VEVENT
DTSTART:20250918T170000Z
DTEND:20250918T180000Z
LOCATION:Wiblen\, \,
TRANSP:OPAQUE
SEQUENCE:0
UID:4229-veranstaltung@sse-onn.ch
DTSTAMP:20250902T115643Z
DESCRIPTION:Kontakt: Ralf Wagner\n\nWeitere Infos:
  https://www.sse-onn.ch/veranstaltung/4229
SUMMARY:Elternabend Erstkommunionkinder
PRIORITY:5
X-MICROSOFT-CDO-IMPORTANCE:1
CLASS:PUBLIC
END:VEVENT
END:VCALENDAR
