BEGIN:VCALENDAR
PRODID:-//kirchenweb.ch gmbh//veranstaltungsausgabe v2.0//DE
VERSION:2.0
METHOD:PUBLISH
BEGIN:VEVENT
DTSTART;VALUE=DATE:20260519
DTEND;VALUE=DATE:20260520
LOCATION:Pfarreiheim Wiblen\, \, 9245 Oberbüren
TRANSP:OPAQUE
SEQUENCE:0
UID:4234-veranstaltung@sse-onn.ch
DTSTAMP:20250819T062643Z
DESCRIPTION:Frühlingsausflug (ganzer Tag)\, weitere Informationen im
  INFO\, Mitteilungsblatt\n\nKontakt: pfarreisekretariat.onn@sse-onn.ch\n
 \nWeitere Infos: https://www.sse-onn.ch/veranstaltung/4234
SUMMARY:Senioren Oberbüren
PRIORITY:5
X-MICROSOFT-CDO-IMPORTANCE:1
CLASS:PUBLIC
END:VEVENT
END:VCALENDAR
