BEGIN:VCALENDAR
PRODID:-//kirchenweb.ch gmbh//veranstaltungsausgabe v2.0//DE
VERSION:2.0
METHOD:PUBLISH
BEGIN:VEVENT
DTSTART:20260904T170000Z
DTEND:20260904T180000Z
LOCATION:Kirche\, Kirchplatz 3\, 9246 Niederbüren
TRANSP:OPAQUE
SEQUENCE:0
UID:4377-veranstaltung@sse-onn.ch
DTSTAMP:20251028T093512Z
DESCRIPTION:Kontakt: pfarreisekretariat.onn@sse-onn.ch\n\nWeitere Infos:
  https://www.sse-onn.ch/veranstaltung/4377
SUMMARY:Praystation Familiengottesdienst
PRIORITY:5
X-MICROSOFT-CDO-IMPORTANCE:1
CLASS:PUBLIC
END:VEVENT
END:VCALENDAR
