BEGIN:VCALENDAR
PRODID:-//kirchenweb.ch gmbh//veranstaltungsausgabe v2.0//DE
VERSION:2.0
METHOD:PUBLISH
BEGIN:VEVENT
DTSTART:20270411T073000Z
DTEND:20270411T083000Z
LOCATION:Kirche\, Im Dorf 6\, 9245 Oberbüren
TRANSP:OPAQUE
SEQUENCE:0
UID:4425-veranstaltung@sse-onn.ch
DTSTAMP:20251112T104305Z
DESCRIPTION:Kontakt: pfarreisekretariat.onn@sse-onn.ch\n\nWeitere Infos:
  https://www.sse-onn.ch/veranstaltung/4425
SUMMARY:Festgottesdienst mit Erstkommunion
PRIORITY:5
X-MICROSOFT-CDO-IMPORTANCE:1
CLASS:PUBLIC
END:VEVENT
END:VCALENDAR
