BEGIN:VCALENDAR
PRODID:-//kirchenweb.ch gmbh//veranstaltungsausgabe v2.0//DE
VERSION:2.0
METHOD:PUBLISH
BEGIN:VEVENT
DTSTART:20260106T073000Z
DTEND:20260106T083000Z
LOCATION:Kloster Glattburg\, Glattburg 108\, 9245 Oberbüren
TRANSP:OPAQUE
SEQUENCE:0
UID:4657-veranstaltung@sse-onn.ch
DTSTAMP:20251216T063004Z
DESCRIPTION:Kontakt: pfarreisekretariat.onn@sse-onn.ch\n\nWeitere Infos:
  https://www.sse-onn.ch/veranstaltung/4657
SUMMARY:Eucharistiefeier im Kloster Glattburg zum Hochfest der Erscheinung
  des Herrn
PRIORITY:5
X-MICROSOFT-CDO-IMPORTANCE:1
CLASS:PUBLIC
END:VEVENT
END:VCALENDAR
