BEGIN:VCALENDAR
PRODID:-//kirchenweb.ch gmbh//veranstaltungsausgabe v2.0//DE
VERSION:2.0
METHOD:PUBLISH
BEGIN:VEVENT
DTSTART:20260822T073000Z
DTEND:20260822T083000Z
LOCATION:Kirche \, Kirchplatz 3\, 9246 Niederbüren
TRANSP:OPAQUE
SEQUENCE:0
UID:4760-veranstaltung@sse-onn.ch
DTSTAMP:20260120T070943Z
DESCRIPTION:Kontakt: pfarreisekretariat.onn@sse-onn.ch\n\nWeitere Infos:
  https://www.sse-onn.ch/veranstaltung/4760
SUMMARY:ökumenische Chinderfiir
PRIORITY:5
X-MICROSOFT-CDO-IMPORTANCE:1
CLASS:PUBLIC
END:VEVENT
END:VCALENDAR
