BEGIN:VCALENDAR
PRODID:-//kirchenweb.ch gmbh//veranstaltungsausgabe v2.0//DE
VERSION:2.0
METHOD:PUBLISH
BEGIN:VEVENT
DTSTART:20261031T083000Z
DTEND:20261031T093000Z
LOCATION:Kirche \, Kirchplatz 3\, 9246 Niederbüren
TRANSP:OPAQUE
SEQUENCE:0
UID:4761-veranstaltung@sse-onn.ch
DTSTAMP:20260120T070944Z
DESCRIPTION:Kontakt: pfarreisekretariat.onn@sse-onn.ch\n\nWeitere Infos:
  https://www.sse-onn.ch/veranstaltung/4761
SUMMARY:ökumenische Chinderfiir
PRIORITY:5
X-MICROSOFT-CDO-IMPORTANCE:1
CLASS:PUBLIC
END:VEVENT
END:VCALENDAR
