BEGIN:VCALENDAR
PRODID:-//kirchenweb.ch gmbh//veranstaltungsausgabe v2.0//DE
VERSION:2.0
METHOD:PUBLISH
BEGIN:VEVENT
DTSTART:20260422T070000Z
DTEND:20260422T080000Z
LOCATION:Kirche\, Kirchplatz 3\, 9246 Niederbüren
TRANSP:OPAQUE
SEQUENCE:0
UID:4880-veranstaltung@sse-onn.ch
DTSTAMP:20260203T093820Z
DESCRIPTION:P. Markus Schulze\n\nKontakt:
  pfarreisekretariat.onn@sse-onn.ch\n\nWeitere Infos:
  https://www.sse-onn.ch/veranstaltung/4880
SUMMARY:Eucharistiefeier
PRIORITY:5
X-MICROSOFT-CDO-IMPORTANCE:1
CLASS:PUBLIC
END:VEVENT
END:VCALENDAR
