BEGIN:VCALENDAR
PRODID:-//kirchenweb.ch gmbh//veranstaltungsausgabe v2.0//DE
VERSION:2.0
METHOD:PUBLISH
BEGIN:VEVENT
DTSTART:20260425T160000Z
DTEND:20260425T170000Z
LOCATION:Kirche\, Im Dorf 1\, 9203 Niederwil
TRANSP:OPAQUE
SEQUENCE:0
UID:4886-veranstaltung@sse-onn.ch
DTSTAMP:20260203T094020Z
DESCRIPTION:P. Markus Schulze\n\nKontakt:
  pfarreisekretariat.onn@sse-onn.ch\n\nWeitere Infos:
  https://www.sse-onn.ch/veranstaltung/4886
SUMMARY:Eucharistiefeier
PRIORITY:5
X-MICROSOFT-CDO-IMPORTANCE:1
CLASS:PUBLIC
END:VEVENT
END:VCALENDAR
