BEGIN:VCALENDAR
PRODID:-//kirchenweb.ch gmbh//veranstaltungsausgabe v2.0//DE
VERSION:2.0
METHOD:PUBLISH
BEGIN:VEVENT
DTSTART:20260426T070000Z
DTEND:20260426T080000Z
LOCATION:Kirche Oberbüren\, Im Dorf 6\, 9245 Oberbüren
TRANSP:OPAQUE
SEQUENCE:0
UID:4887-veranstaltung@sse-onn.ch
DTSTAMP:20260203T094042Z
DESCRIPTION:P. Markus Schulze\n\nKontakt:
  pfarreisekretariat.onn@sse-onn.ch\n\nWeitere Infos:
  https://www.sse-onn.ch/veranstaltung/4887
SUMMARY:Eucharistiefeier
PRIORITY:5
X-MICROSOFT-CDO-IMPORTANCE:1
CLASS:PUBLIC
END:VEVENT
END:VCALENDAR
