BEGIN:VCALENDAR
PRODID:-//kirchenweb.ch gmbh//veranstaltungsausgabe v2.0//DE
VERSION:2.0
METHOD:PUBLISH
BEGIN:VEVENT
DTSTART:20260301T140000Z
DTEND:20260301T170000Z
LOCATION:Kirche Oberbüren\, Im Dorf 6\, 9245 Oberbüren
TRANSP:OPAQUE
SEQUENCE:0
UID:5009-veranstaltung@sse-onn.ch
DTSTAMP:20260211T135528Z
DESCRIPTION:Kontakt: pfarreisekretariat.onn@sse-onn.ch\n\nWeitere Infos:
  https://www.sse-onn.ch/veranstaltung/5009
SUMMARY:Angebot zum Empfang der Krankensalbung
PRIORITY:5
X-MICROSOFT-CDO-IMPORTANCE:1
CLASS:PUBLIC
END:VEVENT
END:VCALENDAR
